BEGIN:VCALENDAR
VERSION:2.0
PRODID:-//eventon.com NONSGML v1.0//EN
CALSCALE:GREGORIAN
METHOD:PUBLISH
BEGIN:VEVENT
UID:69e9fc326e417
DTSTAMP:20260423T110210Z
DTSTART:20260506T163000Z
DTEND:20260506T193000Z
LOCATION:
SUMMARY:Wedstrijd Clinic Valken
DESCRIPTION:Tijdens de wedstrijdclinics polyvalken laten we cursisten van h
 et volwassenzeilen kennismaken met het wedstrijdzeilen. We starten met een 
 korte theoretische introductie (circa 30 minuten)\,  waarna de opgedane ken
 nis direct in de praktijk wordt gebracht. Gedurende de avond varen we meerd
 ere korte wedstrijden die we begeleiden met 2 motorboten voor de[..]\nhttps
 ://vwdtp.nl/events/wedstrijd-clinic-valken/
URL:https://vwdtp.nl/events/wedstrijd-clinic-valken/
END:VEVENT
END:VCALENDAR