BEGIN:VCALENDAR
VERSION:2.0
PRODID:-//eventon.com NONSGML v1.0//EN
CALSCALE:GREGORIAN
METHOD:PUBLISH
BEGIN:VEVENT
UID:69e57bee5d49a
DTSTAMP:20260420T010550Z
DTSTART:20260426T085000Z
DTEND:20260426T140000Z
LOCATION:
SUMMARY:Koningsregatta
DESCRIPTION:Open sprintwedstrijden (gratis evenement)\nhttps://vwdtp.nl/eve
 nts/koningsregatta-2/
URL:https://vwdtp.nl/events/koningsregatta-2/
END:VEVENT
END:VCALENDAR