BEGIN:VCALENDAR
VERSION:2.0
PRODID:-//eventon.com NONSGML v1.0//EN
CALSCALE:GREGORIAN
METHOD:PUBLISH
BEGIN:VEVENT
UID:69e732cd23c34
DTSTAMP:20260421T081821Z
DTSTART:20260321T120000Z
DTEND:20260321T140000Z
LOCATION:VWDTP Meerweg 227 9752XD Haren
SUMMARY:Te water laten van de boeien en motorboten klaar maken
DESCRIPTION:Te water laten van de boeien en motorboten klaar maken\nhttps:/
 /vwdtp.nl/events/te-water-laten-van-de-boeien-en-motorboten-klaar-maken/
URL:https://vwdtp.nl/events/te-water-laten-van-de-boeien-en-motorboten-klaar-maken/
END:VEVENT
END:VCALENDAR