BEGIN:VCALENDAR
VERSION:2.0
PRODID:-//eventon.com NONSGML v1.0//EN
CALSCALE:GREGORIAN
METHOD:PUBLISH
BEGIN:VEVENT
UID:69e73442d3f3a
DTSTAMP:20260421T082434Z
DTSTART:20251101T130000Z
DTEND:20251101T150000Z
LOCATION:VWDTP Meerweg 227 9752XD Haren
SUMMARY:Takelmiddag tijdstip in overleg met de havenmeester
DESCRIPTION:Takelmiddag tijdstip in overleg met de havenmeester\nhttps://vw
 dtp.nl/events/takelmiddag-tijdstip-in-overleg-met-de-havenmeester/
URL:https://vwdtp.nl/events/takelmiddag-tijdstip-in-overleg-met-de-havenmeester/
END:VEVENT
END:VCALENDAR