BEGIN:VCALENDAR
VERSION:2.0
PRODID:-//eventon.com NONSGML v1.0//EN
CALSCALE:GREGORIAN
METHOD:PUBLISH
BEGIN:VEVENT
UID:69e732f07cd52
DTSTAMP:20260421T081856Z
DTSTART:20260125T100000Z
DTEND:20260125T110000Z
LOCATION:Vooronder
SUMMARY:Wedstrijdregels I
DESCRIPTION:Op zondag 25 januari en 8 februari wordt een serieus begin gema
 akt met het zeilseizoen. Carlijn Ubbens en Peter Nannenberg leggen op de e
 erste zondag regel 10 t/m 17 Reglement van Wedstrijden uit\,  en op 8 febr
 uari regel 18\,  19 en 20 RvW. We hebben veel theorie maar ook bewegende be
 elden en[..]\nhttps://vwdtp.nl/events/wedstrijdregels-i/
URL:https://vwdtp.nl/events/wedstrijdregels-i/
END:VEVENT
END:VCALENDAR