BEGIN:VCALENDAR
VERSION:2.0
PRODID:-//eventon.com NONSGML v1.0//EN
CALSCALE:GREGORIAN
METHOD:PUBLISH
BEGIN:VEVENT
UID:69ea99bbaad41
DTSTAMP:20260423T221419Z
DTSTART:20250321T153000Z
DTEND:20250321T225900Z
LOCATION:Vooronder
SUMMARY:Vrijdagmiddagborrel ... spring is in the air
DESCRIPTION:Maandelijkse vrijdagmiddagborrel om gezellig bij te praten met 
 oude bekenden en nieuwe mensen te leren kennen. Met leuke muziek op de acht
 ergrond en regelmatig later op de avond een gevulde dansvloer. Voor een kle
 in bedrag wordt er een clubhap voor je bereid. Wil je meeëten? Geef dat da
 n uiterlijk de[..]\nhttps://vwdtp.nl/events/vrijdagmiddagborrel-spring-is-i
 n-the-air/
URL:https://vwdtp.nl/events/vrijdagmiddagborrel-spring-is-in-the-air/
END:VEVENT
END:VCALENDAR