BEGIN:VCALENDAR
VERSION:2.0
PRODID:-//eventon.com NONSGML v1.0//EN
CALSCALE:GREGORIAN
METHOD:PUBLISH
BEGIN:VEVENT
UID:69e9df5d31a00
DTSTAMP:20260423T085909Z
DTSTART:20250210T183000Z
DTEND:20250210T225900Z
LOCATION:
SUMMARY:Overkoepelend commissieoverleg
DESCRIPTION:Overkoepelend commissieoverleg\nhttps://vwdtp.nl/events/overkoe
 pelend-commissieoverleg/
URL:https://vwdtp.nl/events/overkoepelend-commissieoverleg/
END:VEVENT
END:VCALENDAR