BEGIN:VCALENDAR
VERSION:2.0
PRODID:-//eventon.com NONSGML v1.0//EN
CALSCALE:GREGORIAN
METHOD:PUBLISH
BEGIN:VEVENT
UID:69e7335228e46
DTSTAMP:20260421T082034Z
DTSTART:20250413T073000Z
DTEND:20250413T215900Z
LOCATION:Nij Hemelriek\,  Aduarderzijl\,  Leekstermeer\,  n.t.b.
SUMMARY:Zondagochtend zwemmen op expeditie
DESCRIPTION:https://vwdtp-site.e-captain.nl/mijn-captain-activiteitenoverzi
 cht\nhttps://vwdtp.nl/events/zondagochtend-zwemmen-3/
URL:https://vwdtp.nl/events/zondagochtend-zwemmen-3/
END:VEVENT
END:VCALENDAR