BEGIN:VCALENDAR
VERSION:2.0
PRODID:-//eventon.com NONSGML v1.0//EN
CALSCALE:GREGORIAN
METHOD:PUBLISH
BEGIN:VEVENT
UID:69e5e8a326bf5
DTSTAMP:20260420T084939Z
DTSTART:20250420T073000Z
DTEND:20250420T090000Z
LOCATION:VWDTP zwemsteiger
SUMMARY:Zondagochtend zwemmen
DESCRIPTION:https://vwdtp-site.e-captain.nl/mijn-captain-activiteitenoverzi
 cht\nhttps://vwdtp.nl/events/zondagochtend-zwemmen-2/
URL:https://vwdtp.nl/events/zondagochtend-zwemmen-2/
END:VEVENT
END:VCALENDAR