BEGIN:VCALENDAR
VERSION:2.0
PRODID:-//eventon.com NONSGML v1.0//EN
CALSCALE:GREGORIAN
METHOD:PUBLISH
BEGIN:VEVENT
UID:69e732ae70194
DTSTAMP:20260421T081750Z
DTSTART:20241201T123000Z
DTEND:20241201T150000Z
LOCATION:Vooronder
SUMMARY:GEANNULEERD Lezing SwimRun + zwemmetje of dip
DESCRIPTION:GEANNULEERD !!! Een lezing over SwimRun door Alex en Bernie Van
 af 13:30 tot circa 15:00 nemen Alex en Bernie nemen je mee in hun SwimRun 
 ervaringen. Wat is het? Wat heb je nodig? De inloop is vanaf 13:00. Vanaf c
 irca 15:00 hebben we een pauze zodat je je in onze kleedkamers[..]\nhttps:/
 /vwdtp.nl/events/lezing-swimrun-zwemmetje-of-dip/
URL:https://vwdtp.nl/events/lezing-swimrun-zwemmetje-of-dip/
END:VEVENT
END:VCALENDAR