BEGIN:VCALENDAR
VERSION:2.0
PRODID:-//eventon.com NONSGML v1.0//EN
CALSCALE:GREGORIAN
METHOD:PUBLISH
BEGIN:VEVENT
UID:69e904f9dc08b
DTSTAMP:20260422T172721Z
DTSTART:20240425T160000Z
DTEND:20240425T180000Z
LOCATION:Paterswoldsemeer
SUMMARY:Zeiltraining jeugd (Optimist en Pico)
DESCRIPTION:De Optimist is dé boot voor jonge kinderen om het zeilen te le
 ren. Tevens is het een hele competitieve boot\,  met zowel regionale\,  nat
 ionale als internationale wedstrijden. In de Optimist leer je de basis van 
 het zeilen en kun je eenvoudig doorgroeien naar het wedstrijdzeilen. Voor j
 eugdleden die geen eigen[..]\nhttps://vwdtp.nl/events/training-jeugd-optimi
 st-en-pico/
URL:https://vwdtp.nl/events/training-jeugd-optimist-en-pico/
END:VEVENT
END:VCALENDAR