BEGIN:VCALENDAR
VERSION:2.0
PRODID:-//eventon.com NONSGML v1.0//EN
CALSCALE:GREGORIAN
METHOD:PUBLISH
BEGIN:VEVENT
UID:69e540040c45d
DTSTAMP:20260419T205012Z
DTSTART:20240530T161500Z
DTEND:20240530T193000Z
LOCATION:Paterswoldsemeer
SUMMARY:Volwassenen zeilen donderdag groepen
DESCRIPTION:Volwassenen zeilen donderdag groepen\nhttps://vwdtp.nl/events/v
 olwassenen-zeilen-donderdag-groepen/var/ri-4.l-L1
URL:https://vwdtp.nl/events/volwassenen-zeilen-donderdag-groepen/var/ri-4.l-L1
END:VEVENT
END:VCALENDAR