BEGIN:VCALENDAR
VERSION:2.0
PRODID:-//eventon.com NONSGML v1.0//EN
CALSCALE:GREGORIAN
METHOD:PUBLISH
BEGIN:VEVENT
UID:69e681ebcf4b0
DTSTAMP:20260420T194339Z
DTSTART:20241027T093000Z
DTEND:20241027T120000Z
LOCATION:Paterswoldsemeer
SUMMARY:Najaarscompetitie
DESCRIPTION:Onderlinge zeilwedstrijden VWDTP\,  maar introducés welkom. Me
 er informatie en inschrijving op: https://vwdtp.nl/wedstrijdzeilen/2024_inf
 opagina-najaarscompetitie/\nhttps://vwdtp.nl/events/2024_najaarscompetitie/
 var/ri-2.l-L1
URL:https://vwdtp.nl/events/2024_najaarscompetitie/var/ri-2.l-L1
END:VEVENT
END:VCALENDAR