BEGIN:VCALENDAR
VERSION:2.0
PRODID:-//eventon.com NONSGML v1.0//EN
CALSCALE:GREGORIAN
METHOD:PUBLISH
BEGIN:VEVENT
UID:69e5eb0feee5d
DTSTAMP:20260420T085959Z
DTSTART:20240712T143000Z
DTEND:20240712T180000Z
LOCATION:Vooronder
SUMMARY:Vrijdagmiddagborrel
DESCRIPTION:Vrijdagmiddagborrel\nhttps://vwdtp.nl/events/vrijdagmiddagborre
 l-8/
URL:https://vwdtp.nl/events/vrijdagmiddagborrel-8/
END:VEVENT
END:VCALENDAR