BEGIN:VCALENDAR
VERSION:2.0
PRODID:-//eventon.com NONSGML v1.0//EN
CALSCALE:GREGORIAN
METHOD:PUBLISH
BEGIN:VEVENT
UID:69e74959c6c20
DTSTAMP:20260421T095433Z
DTSTART:20240204T143000Z
DTEND:20240204T160000Z
LOCATION:J.E. Scholtenzaal
SUMMARY:Van Paterswoldsemeer tot Ocean Race (volgeboekt!!!)
DESCRIPTION:Van Paterswoldsemeer tot Ocean Race Of: hoe de jongensdroom van
  Jelmer van Beek werkelijkheid werd Jelmer van Beek begon ooit bij VWDTP in
  de Optimist en behaalde vorig jaar als schipper van de  JAJO de 2de plaat
 s in de Ocean Race Sprint Cup. Een meer dan interessante zeilcarrière\,  d
 ie niet[..]\nhttps://vwdtp.nl/events/van-paterswoldsemeer-ocean-race/
URL:https://vwdtp.nl/events/van-paterswoldsemeer-ocean-race/
END:VEVENT
END:VCALENDAR