BEGIN:VCALENDAR
VERSION:2.0
PRODID:-//eventon.com NONSGML v1.0//EN
CALSCALE:GREGORIAN
METHOD:PUBLISH
BEGIN:VEVENT
UID:69e9fb68930b3
DTSTAMP:20260423T105848Z
DTSTART:20230525T163000Z
DTEND:20230525T190000Z
LOCATION:
SUMMARY:Zeillessen Valk donderdag 2023
DESCRIPTION:Zeillessen Valk donderdag 2023\nhttps://vwdtp.nl/events/zeilles
 sen-valk-donderdag-2023/var/ri-1.l-L1
URL:https://vwdtp.nl/events/zeillessen-valk-donderdag-2023/var/ri-1.l-L1
END:VEVENT
END:VCALENDAR