BEGIN:VCALENDAR
VERSION:2.0
PRODID:-//eventon.com NONSGML v1.0//EN
CALSCALE:GREGORIAN
METHOD:PUBLISH
BEGIN:VEVENT
UID:69ea127664070
DTSTAMP:20260423T123710Z
DTSTART:20230511T163000Z
DTEND:20230511T190000Z
LOCATION:
SUMMARY:Zeillessen Valk donderdag 2023
DESCRIPTION:Zeillessen Valk donderdag 2023\nhttps://vwdtp.nl/events/zeilles
 sen-valk-donderdag-2023/
URL:https://vwdtp.nl/events/zeillessen-valk-donderdag-2023/
END:VEVENT
END:VCALENDAR