BEGIN:VCALENDAR
VERSION:2.0
PRODID:-//eventon.com NONSGML v1.0//EN
CALSCALE:GREGORIAN
METHOD:PUBLISH
BEGIN:VEVENT
UID:69e5e9ac3188f
DTSTAMP:20260420T085404Z
DTSTART:20221001
DTEND:20221002
LOCATION:
SUMMARY:Laser weekend 1 en 2 oktober Zuidlaren
DESCRIPTION:Laser weekend 1 en 2 oktober Zuidlaren\nhttps://vwdtp.nl/events
 /laser-weekend-1-en-2-oktober-zuidlaren/
URL:https://vwdtp.nl/events/laser-weekend-1-en-2-oktober-zuidlaren/
END:VEVENT
END:VCALENDAR