BEGIN:VCALENDAR
VERSION:2.0
PRODID:-//eventon.com NONSGML v1.0//EN
CALSCALE:GREGORIAN
METHOD:PUBLISH
BEGIN:VEVENT
UID:69e73352291e5
DTSTAMP:20260421T082034Z
DTSTART:20220501T073000Z
DTEND:20220501T083000Z
LOCATION:VWDTP Meerweg 227 9752XD Haren
SUMMARY:Zwemtraining
DESCRIPTION:Zwemtraining vanaf de steiger van VWDTP\nhttps://vwdtp.nl/event
 s/zwemtraining/
URL:https://vwdtp.nl/events/zwemtraining/
END:VEVENT
END:VCALENDAR