BEGIN:VCALENDAR
VERSION:2.0
PRODID:-//eventon.com NONSGML v1.0//EN
CALSCALE:GREGORIAN
METHOD:PUBLISH
BEGIN:VEVENT
UID:69e8a2e9b2739
DTSTAMP:20260422T102857Z
DTSTART:20220828T070000Z
DTEND:20220828T160000Z
LOCATION:
SUMMARY:Rabenhaupt
DESCRIPTION:Rabenhaupt\nhttps://vwdtp.nl/events/rabenhaupt/var/ri-1.l-L1
URL:https://vwdtp.nl/events/rabenhaupt/var/ri-1.l-L1
END:VEVENT
END:VCALENDAR