BEGIN:VCALENDAR
VERSION:2.0
PRODID:-//eventon.com NONSGML v1.0//EN
CALSCALE:GREGORIAN
METHOD:PUBLISH
BEGIN:VEVENT
UID:69e9656755ffc
DTSTAMP:20260423T001847Z
DTSTART:20220827T070000Z
DTEND:20220827T160000Z
LOCATION:
SUMMARY:Rabenhaupt
DESCRIPTION:Rabenhaupt\nhttps://vwdtp.nl/events/rabenhaupt/
URL:https://vwdtp.nl/events/rabenhaupt/
END:VEVENT
END:VCALENDAR