BEGIN:VCALENDAR
VERSION:2.0
PRODID:-//eventon.com NONSGML v1.0//EN
CALSCALE:GREGORIAN
METHOD:PUBLISH
BEGIN:VEVENT
UID:69e9de84dd0b3
DTSTAMP:20260423T085532Z
DTSTART:20210807T080000Z
DTEND:20210807T200000Z
LOCATION:
SUMMARY:12-uurs race
DESCRIPTION:12-uurs race\nhttps://vwdtp.nl/events/12-uurs-race/
URL:https://vwdtp.nl/events/12-uurs-race/
END:VEVENT
END:VCALENDAR