BEGIN:VCALENDAR
VERSION:2.0
PRODID:-//eventon.com NONSGML v1.0//EN
CALSCALE:GREGORIAN
METHOD:PUBLISH
BEGIN:VEVENT
UID:69e9dd0c39309
DTSTAMP:20260423T084916Z
DTSTART:20210414T160000Z
DTEND:20210414T183000Z
LOCATION:VWDTP Meerweg 227 9752XD Haren
SUMMARY:SPLASH
DESCRIPTION:SPLASH\nhttps://vwdtp.nl/events/splash/var/ri-1.l-L1
URL:https://vwdtp.nl/events/splash/var/ri-1.l-L1
END:VEVENT
END:VCALENDAR