BEGIN:VCALENDAR
VERSION:2.0
PRODID:-//eventon.com NONSGML v1.0//EN
CALSCALE:GREGORIAN
METHOD:PUBLISH
BEGIN:VEVENT
UID:69e9f33f6eeac
DTSTAMP:20260423T102359Z
DTSTART:20210407T160000Z
DTEND:20210407T183000Z
LOCATION:VWDTP Meerweg 227 9752XD Haren
SUMMARY:SPLASH
DESCRIPTION:SPLASH\nhttps://vwdtp.nl/events/splash/
URL:https://vwdtp.nl/events/splash/
END:VEVENT
END:VCALENDAR